BEGIN:VCALENDAR
VERSION:2.0
PRODID:icalendar-ruby
CALSCALE:GREGORIAN
METHOD:PUBLISH
BEGIN:VTIMEZONE
TZID:Australia/Perth
BEGIN:STANDARD
DTSTART:20090329T020000
TZOFFSETFROM:+0900
TZOFFSETTO:+0800
TZNAME:AWST
END:STANDARD
END:VTIMEZONE
BEGIN:VEVENT
DTSTAMP:20260423T102102Z
UID:inspection_3008869
DTSTART;TZID=Australia/Perth:20260426T093000
DTEND;TZID=Australia/Perth:20260426T100000
CLASS:PUBLIC
CREATED:20260422T092007
DESCRIPTION: 
LAST-MODIFIED:20260422T092007
LOCATION:30 Smith Street\, FURNISSDALE WA 6209\, Australia
SUMMARY:30 Smith Street\,  Inspection
URL;VALUE=URI:http://www.greenhouserealty.com.au
END:VEVENT
END:VCALENDAR
